Workbook

Sheet 6
A1: Пушкина | B1: 6 | C1: 342.7 | D1: 7.76 | E1: =ROUND(C1*D1*12,2) -> 31912.22
A2: ПЕРЕЧЕНЬ
A3: дополнительных работ и услуг по содержанию и ремонту общего имущества в многоквартирном доме Пушкина, 6
A4: Наименование работ и услуг | B4: Периодичность | C4: Годовая плата, руб. | D4: Стоимость на 1 кв.м. общей площади, руб.в месяц
A5: Устранение замачивания грунта под фундаментом (осушение) | B5: по необходимости | C5: =ROUND(D5*$C$1*12,2) -> 23276.18 | D5: =Общий!C3 -> 5.66
A6: Замена неисправных участков электрической сети здания (от ввода до квартиры) | B6: 1 раз в год | C6: =ROUND(D6*$C$1*12,2) -> 7278.95 | D6: =Общий!C4 -> 1.77
A7: Проверка изоляции электропроводки и ее укрепление | B7: 1 раз в год | C7: =ROUND(D7*$C$1*12,2) -> 1357.09 | D7: =Общий!C5 -> 0.33
A8: Смена радиаторных блоков в местах общего пользование | B8: по необходимости | C8: =ROUND(D8*$C$1*12,2) -> 0 | D8: =Общий!C6 -> 0
A9: Итого | C9: =SUM(C5:C8) -> 31912.22 | D9: =SUM(D5:D8) -> 7.76

Sheet 8
A1: Пушкина | B1: 8 | C1: 528.3 | D1: 6.48 | E1: =ROUND(C1*D1*12,2) -> 41080.61
A2: ПЕРЕЧЕНЬ
A3: дополнительных работ и услуг по содержанию и ремонту общего имущества в многоквартирном доме Пушкина, 8
A4: Наименование работ и услуг | B4: Периодичность | C4: Годовая плата, руб. | D4: Стоимость на 1 кв.м. общей площади, руб.в месяц
A5: Устранение замачивания грунта под фундаментом (осушение) | B5: по необходимости | C5: =ROUND(D5*$C$1*12,2) -> 35882.14 | D5: =Общий!D3 -> 5.66
A6: Замена неисправных участков электрической сети здания (от ввода до квартиры) | B6: 1 раз в год | C6: =ROUND(D6*$C$1*12,2) -> 0 | D6: =Общий!D4 -> 0
A7: Проверка изоляции электропроводки и ее укрепление | B7: 1 раз в год | C7: =ROUND(D7*$C$1*12,2) -> 2092.07 | D7: =Общий!D5 -> 0.33
A8: Смена радиаторных блоков в местах общего пользование | B8: по необходимости | C8: =ROUND(D8*$C$1*12,2) -> 3106.4 | D8: =Общий!D6 -> 0.49
A9: Итого | C9: =SUM(C5:C8) -> 41080.61 | D9: =SUM(D5:D8) -> 6.48

Sheet 10
A1: Пушкина | B1: 10 | C1: 5544.1 | D1: 6.48 | E1: =ROUND(C1*D1*12,2) -> 431109.22
A2: ПЕРЕЧЕНЬ
A3: дополнительных работ и услуг по содержанию и ремонту общего имущества в многоквартирном доме Пушкина, 10
A4: Наименование работ и услуг | B4: Периодичность | C4: Годовая плата, руб. | D4: Стоимость на 1 кв.м. общей площади, руб.в месяц
A5: Устранение замачивания грунта под фундаментом (осушение) | B5: по необходимости | C5: =ROUND(D5*$C$1*12,2) -> 376555.27 | D5: =Общий!D3 -> 5.66
A6: Замена неисправных участков электрической сети здания (от ввода до квартиры) | B6: 1 раз в год | C6: =ROUND(D6*$C$1*12,2) -> 0 | D6: =Общий!D4 -> 0
A7: Проверка изоляции электропроводки и ее укрепление | B7: 1 раз в год | C7: =ROUND(D7*$C$1*12,2) -> 21954.64 | D7: =Общий!D5 -> 0.33
A8: Смена радиаторных блоков в местах общего пользование | B8: по необходимости | C8: =ROUND(D8*$C$1*12,2) -> 32599.31 | D8: =Общий!D6 -> 0.49
A9: Итого | C9: =SUM(C5:C8) -> 431109.22 | D9: =SUM(D5:D8) -> 6.48

Sheet 26
A1: Пушкина | B1: 26 | C1: 694.8 | D1: 8.21 | E1: =ROUND(C1*D1*12,2) -> 68451.7
A2: ПЕРЕЧЕНЬ
A3: дополнительных работ и услуг по содержанию и ремонту общего имущества в многоквартирном доме Пушкина, 26
A4: Наименование работ и услуг | B4: Периодичность | C4: Годовая плата, руб. | D4: Стоимость на 1 кв.м. общей площади, руб.в месяц
A5: Устранение замачивания грунта под фундаментом (осушение) | B5: по необходимости | C5: =ROUND(D5*$C$1*12,2) -> 47190.82 | D5: =Общий!E3 -> 5.66
A6: Замена неисправных участков электрической сети здания (от ввода до квартиры) | B6: 1 раз в год | C6: =ROUND(D6*$C$1*12,2) -> 18509.47 | D6: =Общий!E4 -> 2.22
A7: Проверка изоляции электропроводки и ее укрепление | B7: 1 раз в год | C7: =ROUND(D7*$C$1*12,2) -> 2751.41 | D7: =Общий!E5 -> 0.33
A8: Смена радиаторных блоков в местах общего пользование | B8: по необходимости | C8: =ROUND(D8*$C$1*12,2) -> 0 | D8: =Общий!E6 -> 0
A9: Итого | C9: =SUM(C5:C8) -> 68451.7 | D9: =SUM(D5:D8) -> 8.21

Sheet 28
A1: Пушкина | B1: 28 | C1: 943.1 | D1: 8.21 | E1: =ROUND(C1*D1*12,2) -> 92914.21
A2: ПЕРЕЧЕНЬ
A3: дополнительных работ и услуг по содержанию и ремонту общего имущества в многоквартирном доме Пушкина, 28
A4: Наименование работ и услуг | B4: Периодичность | C4: Годовая плата, руб. | D4: Стоимость на 1 кв.м. общей площади, руб.в месяц
A5: Устранение замачивания грунта под фундаментом (осушение) | B5: по необходимости | C5: =ROUND(D5*$C$1*12,2) -> 64055.35 | D5: =Общий!E3 -> 5.66
A6: Замена неисправных участков электрической сети здания (от ввода до квартиры) | B6: 1 раз в год | C6: =ROUND(D6*$C$1*12,2) -> 25124.18 | D6: =Общий!E4 -> 2.22
A7: Проверка изоляции электропроводки и ее укрепление | B7: 1 раз в год | C7: =ROUND(D7*$C$1*12,2) -> 3734.68 | D7: =Общий!E5 -> 0.33
A8: Смена радиаторных блоков в местах общего пользование | B8: по необходимости | C8: =ROUND(D8*$C$1*12,2) -> 0 | D8: =Общий!E6 -> 0
A9: Итого | C9: =SUM(C5:C8) -> 92914.21 | D9: =SUM(D5:D8) -> 8.21

Sheet 30
A1: Пушкина | B1: 30 | C1: 721.8 | D1: 8.21 | E1: =ROUND(C1*D1*12,2) -> 71111.74
A2: ПЕРЕЧЕНЬ
A3: дополнительных работ и услуг по содержанию и ремонту общего имущества в многоквартирном доме Пушкина, 30
A4: Наименование работ и услуг | B4: Периодичность | C4: Годовая плата, руб. | D4: Стоимость на 1 кв.м. общей площади, руб.в месяц
A5: Устранение замачивания грунта под фундаментом (осушение) | B5: по необходимости | C5: =ROUND(D5*$C$1*12,2) -> 49024.66 | D5: =Общий!E3 -> 5.66
A6: Замена неисправных участков электрической сети здания (от ввода до квартиры) | B6: 1 раз в год | C6: =ROUND(D6*$C$1*12,2) -> 19228.75 | D6: =Общий!E4 -> 2.22
A7: Проверка изоляции электропроводки и ее укрепление | B7: 1 раз в год | C7: =ROUND(D7*$C$1*12,2) -> 2858.33 | D7: =Общий!E5 -> 0.33
A8: Смена радиаторных блоков в местах общего пользование | B8: по необходимости | C8: =ROUND(D8*$C$1*12,2) -> 0 | D8: =Общий!E6 -> 0
A9: Итого | C9: =SUM(C5:C8) -> 71111.74 | D9: =SUM(D5:D8) -> 8.21

Sheet 30а
A1: Пушкина | B1: 30а | C1: 1109.3 | D1: 7.76 | E1: =ROUND(C1*D1*12,2) -> 103298.02
A2: ПЕРЕЧЕНЬ
A3: дополнительных работ и услуг по содержанию и ремонту общего имущества в многоквартирном доме Пушкина, 30а
A4: Наименование работ и услуг | B4: Периодичность | C4: Годовая плата, руб. | D4: Стоимость на 1 кв.м. общей площади, руб.в месяц
A5: Устранение замачивания грунта под фундаментом (осушение) | B5: по необходимости | C5: =ROUND(D5*$C$1*12,2) -> 75343.66 | D5: =Общий!C3 -> 5.66
A6: Замена неисправных участков электрической сети здания (от ввода до квартиры) | B6: 1 раз в год | C6: =ROUND(D6*$C$1*12,2) -> 23561.53 | D6: =Общий!C4 -> 1.77
A7: Проверка изоляции электропроводки и ее укрепление | B7: 1 раз в год | C7: =ROUND(D7*$C$1*12,2) -> 4392.83 | D7: =Общий!C5 -> 0.33
A8: Смена радиаторных блоков в местах общего пользование | B8: по необходимости | C8: =ROUND(D8*$C$1*12,2) -> 0 | D8: =Общий!C6 -> 0
A9: Итого | C9: =SUM(C5:C8) -> 103298.02 | D9: =SUM(D5:D8) -> 7.76

Sheet 32
A1: Пушкина | B1: 32 | C1: 920.3 | D1: 7.76 | E1: =ROUND(C1*D1*12,2) -> 85698.34
A2: ПЕРЕЧЕНЬ
A3: дополнительных работ и услуг по содержанию и ремонту общего имущества в многоквартирном доме Пушкина, 32
A4: Наименование работ и услуг | B4: Периодичность | C4: Годовая плата, руб. | D4: Стоимость на 1 кв.м. общей площади, руб.в месяц
A5: Устранение замачивания грунта под фундаментом (осушение) | B5: по необходимости | C5: =ROUND(D5*$C$1*12,2) -> 62506.78 | D5: =Общий!C3 -> 5.66
A6: Замена неисправных участков электрической сети здания (от ввода до квартиры) | B6: 1 раз в год | C6: =ROUND(D6*$C$1*12,2) -> 19547.17 | D6: =Общий!C4 -> 1.77
A7: Проверка изоляции электропроводки и ее укрепление | B7: 1 раз в год | C7: =ROUND(D7*$C$1*12,2) -> 3644.39 | D7: =Общий!C5 -> 0.33
A8: Смена радиаторных блоков в местах общего пользование | B8: по необходимости | C8: =ROUND(D8*$C$1*12,2) -> 0 | D8: =Общий!C6 -> 0
A9: Итого | C9: =SUM(C5:C8) -> 85698.34 | D9: =SUM(D5:D8) -> 7.76

Sheet 33
A1: Пушкина | B1: 33 | C1: 453.5 | D1: 8.21 | E1: =ROUND(C1*D1*12,2) -> 44678.82
A2: ПЕРЕЧЕНЬ
A3: дополнительных работ и услуг по содержанию и ремонту общего имущества в многоквартирном доме Пушкина, 33
A4: Наименование работ и услуг | B4: Периодичность | C4: Годовая плата, руб. | D4: Стоимость на 1 кв.м. общей площади, руб.в месяц
A5: Устранение замачивания грунта под фундаментом (осушение) | B5: по необходимости | C5: =ROUND(D5*$C$1*12,2) -> 30801.72 | D5: =Общий!E3 -> 5.66
A6: Замена неисправных участков электрической сети здания (от ввода до квартиры) | B6: 1 раз в год | C6: =ROUND(D6*$C$1*12,2) -> 12081.24 | D6: =Общий!E4 -> 2.22
A7: Проверка изоляции электропроводки и ее укрепление | B7: 1 раз в год | C7: =ROUND(D7*$C$1*12,2) -> 1795.86 | D7: =Общий!E5 -> 0.33
A8: Смена радиаторных блоков в местах общего пользование | B8: по необходимости | C8: =ROUND(D8*$C$1*12,2) -> 0 | D8: =Общий!E6 -> 0
A9: Итого | C9: =SUM(C5:C8) -> 44678.82 | D9: =SUM(D5:D8) -> 8.21

Sheet 34
A1: Пушкина | B1: 34 | C1: 1096.6 | D1: 7.76 | E1: =ROUND(C1*D1*12,2) -> 102115.39
A2: ПЕРЕЧЕНЬ
A3: дополнительных работ и услуг по содержанию и ремонту общего имущества в многоквартирном доме Пушкина, 34
A4: Наименование работ и услуг | B4: Периодичность | C4: Годовая плата, руб. | D4: Стоимость на 1 кв.м. общей площади, руб.в месяц
A5: Устранение замачивания грунта под фундаментом (осушение) | B5: по необходимости | C5: =ROUND(D5*$C$1*12,2) -> 74481.07 | D5: =Общий!C3 -> 5.66
A6: Замена неисправных участков электрической сети здания (от ввода до квартиры) | B6: 1 раз в год | C6: =ROUND(D6*$C$1*12,2) -> 23291.78 | D6: =Общий!C4 -> 1.77
A7: Проверка изоляции электропроводки и ее укрепление | B7: 1 раз в год | C7: =ROUND(D7*$C$1*12,2) -> 4342.54 | D7: =Общий!C5 -> 0.33
A8: Смена радиаторных блоков в местах общего пользование | B8: по необходимости | C8: =ROUND(D8*$C$1*12,2) -> 0 | D8: =Общий!C6 -> 0
A9: Итого | C9: =SUM(C5:C8) -> 102115.39 | D9: =SUM(D5:D8) -> 7.76

Sheet 35
A1: Пушкина | B1: 35 | C1: 631.1 | D1: 8.21 | E1: =ROUND(C1*D1*12,2) -> 62175.97
A2: ПЕРЕЧЕНЬ
A3: дополнительных работ и услуг по содержанию и ремонту общего имущества в многоквартирном доме Пушкина, 35
A4: Наименование работ и услуг | B4: Периодичность | C4: Годовая плата, руб. | D4: Стоимость на 1 кв.м. общей площади, руб.в месяц
A5: Устранение замачивания грунта под фундаментом (осушение) | B5: по необходимости | C5: =ROUND(D5*$C$1*12,2) -> 42864.31 | D5: =Общий!E3 -> 5.66
A6: Замена неисправных участков электрической сети здания (от ввода до квартиры) | B6: 1 раз в год | C6: =ROUND(D6*$C$1*12,2) -> 16812.5 | D6: =Общий!E4 -> 2.22
A7: Проверка изоляции электропроводки и ее укрепление | B7: 1 раз в год | C7: =ROUND(D7*$C$1*12,2) -> 2499.16 | D7: =Общий!E5 -> 0.33
A8: Смена радиаторных блоков в местах общего пользование | B8: по необходимости | C8: =ROUND(D8*$C$1*12,2) -> 0 | D8: =Общий!E6 -> 0
A9: Итого | C9: =SUM(C5:C8) -> 62175.97 | D9: =SUM(D5:D8) -> 8.21

Sheet 37
A1: Пушкина | B1: 37 | C1: 1063.9 | D1: 7.76 | E1: =ROUND(C1*D1*12,2) -> 99070.37
A2: ПЕРЕЧЕНЬ
A3: дополнительных работ и услуг по содержанию и ремонту общего имущества в многоквартирном доме Пушкина, 37
A4: Наименование работ и услуг | B4: Периодичность | C4: Годовая плата, руб. | D4: Стоимость на 1 кв.м. общей площади, руб.в месяц
A5: Устранение замачивания грунта под фундаментом (осушение) | B5: по необходимости | C5: =ROUND(D5*$C$1*12,2) -> 72260.09 | D5: =Общий!C3 -> 5.66
A6: Замена неисправных участков электрической сети здания (от ввода до квартиры) | B6: 1 раз в год | C6: =ROUND(D6*$C$1*12,2) -> 22597.24 | D6: =Общий!C4 -> 1.77
A7: Проверка изоляции электропроводки и ее укрепление | B7: 1 раз в год | C7: =ROUND(D7*$C$1*12,2) -> 4213.04 | D7: =Общий!C5 -> 0.33
A8: Смена радиаторных блоков в местах общего пользование | B8: по необходимости | C8: =ROUND(D8*$C$1*12,2) -> 0 | D8: =Общий!C6 -> 0
A9: Итого | C9: =SUM(C5:C8) -> 99070.37 | D9: =SUM(D5:D8) -> 7.76

Sheet 38
A1: Пушкина | B1: 38 | C1: 695 | D1: 7.76 | E1: =ROUND(C1*D1*12,2) -> 64718.4
A2: ПЕРЕЧЕНЬ
A3: дополнительных работ и услуг по содержанию и ремонту общего имущества в многоквартирном доме Пушкина, 38
A4: Наименование работ и услуг | B4: Периодичность | C4: Годовая плата, руб. | D4: Стоимость на 1 кв.м. общей площади, руб.в месяц
A5: Устранение замачивания грунта под фундаментом (осушение) | B5: по необходимости | C5: =ROUND(D5*$C$1*12,2) -> 47204.4 | D5: =Общий!C3 -> 5.66
A6: Замена неисправных участков электрической сети здания (от ввода до квартиры) | B6: 1 раз в год | C6: =ROUND(D6*$C$1*12,2) -> 14761.8 | D6: =Общий!C4 -> 1.77
A7: Проверка изоляции электропроводки и ее укрепление | B7: 1 раз в год | C7: =ROUND(D7*$C$1*12,2) -> 2752.2 | D7: =Общий!C5 -> 0.33
A8: Смена радиаторных блоков в местах общего пользование | B8: по необходимости | C8: =ROUND(D8*$C$1*12,2) -> 0 | D8: =Общий!C6 -> 0
A9: Итого | C9: =SUM(C5:C8) -> 64718.4 | D9: =SUM(D5:D8) -> 7.76

Sheet 41
A1: Пушкина | B1: 41 | C1: 1118.8 | D1: 7.76 | E1: =ROUND(C1*D1*12,2) -> 104182.66
A2: ПЕРЕЧЕНЬ
A3: дополнительных работ и услуг по содержанию и ремонту общего имущества в многоквартирном доме Пушкина, 41
A4: Наименование работ и услуг | B4: Периодичность | C4: Годовая плата, руб. | D4: Стоимость на 1 кв.м. общей площади, руб.в месяц
A5: Устранение замачивания грунта под фундаментом (осушение) | B5: по необходимости | C5: =ROUND(D5*$C$1*12,2) -> 75988.9 | D5: =Общий!C3 -> 5.66
A6: Замена неисправных участков электрической сети здания (от ввода до квартиры) | B6: 1 раз в год | C6: =ROUND(D6*$C$1*12,2) -> 23763.31 | D6: =Общий!C4 -> 1.77
A7: Проверка изоляции электропроводки и ее укрепление | B7: 1 раз в год | C7: =ROUND(D7*$C$1*12,2) -> 4430.45 | D7: =Общий!C5 -> 0.33
A8: Смена радиаторных блоков в местах общего пользование | B8: по необходимости | C8: =ROUND(D8*$C$1*12,2) -> 0 | D8: =Общий!C6 -> 0
A9: Итого | C9: =SUM(C5:C8) -> 104182.66 | D9: =SUM(D5:D8) -> 7.76

Sheet 43
A1: Пушкина | B1: 43 | C1: 1124.4 | D1: 7.76 | E1: =ROUND(C1*D1*12,2) -> 104704.13
A2: ПЕРЕЧЕНЬ
A3: дополнительных работ и услуг по содержанию и ремонту общего имущества в многоквартирном доме Пушкина, 43
A4: Наименование работ и услуг | B4: Периодичность | C4: Годовая плата, руб. | D4: Стоимость на 1 кв.м. общей площади, руб.в месяц
A5: Устранение замачивания грунта под фундаментом (осушение) | B5: по необходимости | C5: =ROUND(D5*$C$1*12,2) -> 76369.25 | D5: =Общий!C3 -> 5.66
A6: Замена неисправных участков электрической сети здания (от ввода до квартиры) | B6: 1 раз в год | C6: =ROUND(D6*$C$1*12,2) -> 23882.26 | D6: =Общий!C4 -> 1.77
A7: Проверка изоляции электропроводки и ее укрепление | B7: 1 раз в год | C7: =ROUND(D7*$C$1*12,2) -> 4452.62 | D7: =Общий!C5 -> 0.33
A8: Смена радиаторных блоков в местах общего пользование | B8: по необходимости | C8: =ROUND(D8*$C$1*12,2) -> 0 | D8: =Общий!C6 -> 0
A9: Итого | C9: =SUM(C5:C8) -> 104704.13 | D9: =SUM(D5:D8) -> 7.76

Sheet 45
A1: Пушкина | B1: 45 | C1: 301.6 | D1: 7.76 | E1: =ROUND(C1*D1*12,2) -> 28084.99
A2: ПЕРЕЧЕНЬ
A3: дополнительных работ и услуг по содержанию и ремонту общего имущества в многоквартирном доме Пушкина, 41
A4: Наименование работ и услуг | B4: Периодичность | C4: Годовая плата, руб. | D4: Стоимость на 1 кв.м. общей площади, руб.в месяц
A5: Устранение замачивания грунта под фундаментом (осушение) | B5: по необходимости | C5: =ROUND(D5*$C$1*12,2) -> 20484.67 | D5: =Общий!C3 -> 5.66
A6: Замена неисправных участков электрической сети здания (от ввода до квартиры) | B6: 1 раз в год | C6: =ROUND(D6*$C$1*12,2) -> 6405.98 | D6: =Общий!C4 -> 1.77
A7: Проверка изоляции электропроводки и ее укрепление | B7: 1 раз в год | C7: =ROUND(D7*$C$1*12,2) -> 1194.34 | D7: =Общий!C5 -> 0.33
A8: Смена радиаторных блоков в местах общего пользование | B8: по необходимости | C8: =ROUND(D8*$C$1*12,2) -> 0 | D8: =Общий!C6 -> 0
A9: Итого | C9: =SUM(C5:C8) -> 28084.99 | D9: =SUM(D5:D8) -> 7.76

Sheet Общий
A2: Вид работ | B2: Периодичность | C2: Жилые дома в деревянном исполнении с центральным отоплением, с общими коридорами | D2: Жилые дома в капитальном исполнении до 3-х этажей с полным уровнем благоустройства | E2: Жилые дома в деревянном исполнении ветхие и аварийные
A3: Устранение замачивания грунта под фундаментом (осушение) | B3: по необходимости | C3: 5.66 | D3: 5.66 | E3: 5.66
A4: Замена неисправных участков электрической сети здания (от ввода до квартиры) | B4: 1 раз в год | C4: 1.77 | D4: 0 | E4: 2.22
A5: Проверка изоляции электропроводки и ее укрепление | B5: 1 раз в год | C5: 0.33 | D5: 0.33 | E5: 0.33
A6: Смена радиаторных блоков в местах общего пользование | B6: по необходимости | C6: 0 | D6: 0.49 | E6: 0
A7: Итого | C7: =SUM(C3:C6) -> 7.76 | D7: =SUM(D3:D6) -> 6.48 | E7: =SUM(E3:E6) -> 8.21
A10: Название улицы | B10: Номер дома | C10: Площадь жилых помещений, кв.м | D10: Стоимость работ и услуг, выполняемых в целях управления жилищным фондом, руб./кв.м. в мес. | E10: Годовая плата, руб.
A11: Пушкина | B11: 6 | C11: 342.7 | D11: 7.76 | E11: =ROUND(C11*D11*12,2) -> 31912.22 | G11: 31912.22
A12: Пушкина | B12: 8 | C12: 528.3 | D12: 6.48 | E12: =ROUND(C12*D12*12,2) -> 41080.61 | G12: 41080.61
A13: Пушкина | B13: 10 | C13: 5544.1 | D13: 6.48 | E13: =ROUND(C13*D13*12,2) -> 431109.22 | G13: 431109.22
A14: Пушкина | B14: 26 | C14: 694.8 | D14: 8.21 | E14: =ROUND(C14*D14*12,2) -> 68451.7 | G14: 68451.7
A15: Пушкина | B15: 28 | C15: 943.1 | D15: 8.21 | E15: =ROUND(C15*D15*12,2) -> 92914.21 | G15: 92914.21
A16: Пушкина | B16: 30 | C16: 721.8 | D16: 8.21 | E16: =ROUND(C16*D16*12,2) -> 71111.74 | G16: 71111.74
A17: Пушкина | B17: 30а | C17: 1109.3 | D17: 7.76 | E17: =ROUND(C17*D17*12,2) -> 103298.02 | G17: 103298.02
A18: Пушкина | B18: 32 | C18: 920.3 | D18: 7.76 | E18: =ROUND(C18*D18*12,2) -> 85698.34 | G18: 85698.34
A19: Пушкина | B19: 33 | C19: 453.5 | D19: 8.21 | E19: =ROUND(C19*D19*12,2) -> 44678.82 | G19: 44678.82
A20: Пушкина | B20: 34 | C20: 1096.6 | D20: 7.76 | E20: =ROUND(C20*D20*12,2) -> 102115.39 | G20: 102115.39
A21: Пушкина | B21: 35 | C21: 631.1 | D21: 8.21 | E21: =ROUND(C21*D21*12,2) -> 62175.97 | G21: 62175.97
A22: Пушкина | B22: 37 | C22: 1063.9 | D22: 7.76 | E22: =ROUND(C22*D22*12,2) -> 99070.37 | G22: 99070.37
A23: Пушкина | B23: 38 | C23: 695 | D23: 7.76 | E23: =ROUND(C23*D23*12,2) -> 64718.4 | G23: 64718.4
A24: Пушкина | B24: 41 | C24: 1118.8 | D24: 7.76 | E24: =ROUND(C24*D24*12,2) -> 104182.66 | G24: 104182.66
A25: Пушкина | B25: 43 | C25: 1124.4 | D25: 7.76 | E25: =ROUND(C25*D25*12,2) -> 104704.13 | G25: 104704.13
A26: Пушкина | B26: 45 | C26: 301.6 | D26: 7.76 | E26: =ROUND(C26*D26*12,2) -> 28084.99 | G26: 28084.99
A27: Итого за Пушкина | C27: =SUM(C11:C26) -> 17289.3 | E27: =SUM(E11:E26) -> 1535306.8 | G27: 1535306.8
